BEGIN:VCALENDAR
VERSION:2.0
PRODID:-//ical.marudot.com//iCal Event Maker
CALSCALE:GREGORIAN
BEGIN:VTIMEZONE
TZID:Europe/London
LAST-MODIFIED:20250410T142247Z
TZURL:https://www.tzurl.org/zoneinfo-outlook/Europe/London
X-LIC-LOCATION:Europe/London
BEGIN:DAYLIGHT
TZNAME:BST
TZOFFSETFROM:+0000
TZOFFSETTO:+0100
DTSTART:19700329T010000
RRULE:FREQ=YEARLY;BYMONTH=3;BYDAY=-1SU
END:DAYLIGHT
BEGIN:STANDARD
TZNAME:GMT
TZOFFSETFROM:+0100
TZOFFSETTO:+0000
DTSTART:19701025T020000
RRULE:FREQ=YEARLY;BYMONTH=10;BYDAY=-1SU
END:STANDARD
END:VTIMEZONE
BEGIN:VEVENT
DTSTAMP:20260420T135508Z
UID:1776693271868-95363@ical.marudot.com
DTSTART;TZID=Europe/London:20260513T170000
DTEND;TZID=Europe/London:20260513T174500
SUMMARY:Culture as a catalyst: Todd Corley on embedding people-first thinking into Carhartt's sustainability strategy
URL:https://us02web.zoom.us/webinar/register/9317766930789/WN_p9NrOAXDTey661h3cX5z0g
DESCRIPTION:As sustainability conversations increasingly center on regulation\, compliance deadlines and investment in new data systems\, something risks getting lost: the need to invest in people who drive the change.\n\nTodd Corley's perspective emphasizes the importance of inspiring and developing individuals across all levels of an organization. Rooted in a career shaping social\, philanthropic\, sustainability and belonging initiatives in corporate workplaces\, he now holds one of the most distinctive roles in the industry as Chief People and Impact Officer at Carhartt. From that vantage point\, he builds strategy bottom-up\, and asks a different question: What happens when you treat people and culture not as a support function to your people and impact strategy\, but as its foundation?\n \nIntegrating this strategic framework within global organizations requires persistence\, adaptability\, and a willingness to accept that there is no one-size-fits-all approach to building a purpose-driven culture.\n\nIn this webinar\, we'll explore:\n\n- How Todd's journey to Chief People and Impact Officer shapes his approach to sustainability\n- What it looks like to structure teams and governance for real impact\, and why capacity building is a strategic investment\n- Carhartt's people-first approach in practice: examples of community connection\, skilled trade development and accessible circularity\n- Making the internal business case: navigating pushback and keeping purpose at the core\n- Reasons for optimism\, and what the industry needs to do next to act on them
LOCATION:Virtual
BEGIN:VALARM
ACTION:DISPLAY
DESCRIPTION:Culture as a catalyst: Todd Corley on embedding people-first thinking into Carhartt's sustainability strategy
TRIGGER:-PT1H
END:VALARM
BEGIN:VALARM
ACTION:DISPLAY
DESCRIPTION:Culture as a catalyst: Todd Corley on embedding people-first thinking into Carhartt's sustainability strategy
TRIGGER:-PT5M
END:VALARM
END:VEVENT
END:VCALENDAR